Workbook

Sheet 04-マスター
A1: 組合コード１ | B1: 組合コード２ | C1: 組合コード | D1: 組合名 | F1: 組合コード１ | G1: 組合コード２
A2: =RIGHT("00000"&F2,5) -> 00002 | B2: =RIGHT("00000"&G2,5) -> 00000 | C2: 0000100000 | D2: 長井アパレル労働組合 | F2: 2 | G2: 0
A3: =RIGHT("00000"&F3,5) -> 00004 | B3: =RIGHT("00000"&G3,5) -> 00000 | C3: 0000200000 | D3: 日東紡テクノ労働組合 | F3: 4 | G3: 0
A4: =RIGHT("00000"&F4,5) -> 00005 | B4: =RIGHT("00000"&G4,5) -> 00000 | C4: 0000300000 | D4: 大東労連 郡山三東スーツ労働組合 | F4: 5 | G4: 0
A5: =RIGHT("00000"&F5,5) -> 00006 | B5: =RIGHT("00000"&G5,5) -> 00000 | C5: 0000400000 | D5: 日東グラスファイバー労働組合 | F5: 6 | G5: 0
A6: =RIGHT("00000"&F6,5) -> 00008 | B6: =RIGHT("00000"&G6,5) -> 00000 | C6: 0000500000 | D6: 富士ファイバーグラス労働組合 | F6: 8 | G6: 0
A7: =RIGHT("00000"&F7,5) -> 00009 | B7: =RIGHT("00000"&G7,5) -> 00000 | C7: 0000600000 | D7: サイボー労働組合 | F7: 9 | G7: 0
A8: =RIGHT("00000"&F8,5) -> 00009 | B8: =RIGHT("00000"&G8,5) -> 00001 | C8: 0000800000 | D8: 太陽毛絲労働組合 | F8: 9 | G8: 1
A9: =RIGHT("00000"&F9,5) -> 00009 | B9: =RIGHT("00000"&G9,5) -> 00002 | C9: 0000900000 | D9: 日本フエルト労働組合 | F9: 9 | G9: 2
A10: =RIGHT("00000"&F10,5) -> 00009 | B10: =RIGHT("00000"&G10,5) -> 00003 | C10: 0000900001 | D10: 日本フエルト労働組合栃木支部 | F10: 9 | G10: 3
A11: =RIGHT("00000"&F11,5) -> 00011 | B11: =RIGHT("00000"&G11,5) -> 00000 | C11: 0000900002 | D11: 日本フエルト労組埼玉支部 | F11: 11 | G11: 0
A12: =RIGHT("00000"&F12,5) -> 00011 | B12: =RIGHT("00000"&G12,5) -> 00001 | C12: 0000900003 | D12: 日本フエルト労組東京支部 | F12: 11 | G12: 1
A13: =RIGHT("00000"&F13,5) -> 00011 | B13: =RIGHT("00000"&G13,5) -> 00002 | C13: 0001000000 | D13: 中央繊維興業労働組合 | F13: 11 | G13: 2
... A434: =RIGHT("00000"&F434,5) -> 00236 | B434: =RIGHT("00000"&G434,5) -> 00004 | C434: 0009900099 | D434: グンゼ労働組合分区 | F434: 236 | G434: 4
A435: =RIGHT("00000"&F435,5) -> 00236 | B435: =RIGHT("00000"&G435,5) -> 00005 | C435: 9999999 | D435: ダミー | F435: 236 | G435: 5
A436: =RIGHT("00000"&F436,5) -> 00238 | B436: =RIGHT("00000"&G436,5) -> 00000 | C436: 0010000000 | D436: シキボウ労働組合 | F436: 238 | G436: 0
A437: =RIGHT("00000"&F437,5) -> 00238 | B437: =RIGHT("00000"&G437,5) -> 00001 | C437: 0010000001 | D437: シキボウ労働組合東京支部 | F437: 238 | G437: 1
A438: =RIGHT("00000"&F438,5) -> 00238 | B438: =RIGHT("00000"&G438,5) -> 00002 | C438: 0010000002 | D438: シキボウ労働組合富山支部 | F438: 238 | G438: 2
A439: =RIGHT("00000"&F439,5) -> 00238 | B439: =RIGHT("00000"&G439,5) -> 00003 | C439: 0010000003 | D439: シキボウ労働組合江南支部 | F439: 238 | G439: 3
A440: =RIGHT("00000"&F440,5) -> 00238 | B440: =RIGHT("00000"&G440,5) -> 00004 | C440: 0010000004 | D440: シキボウ労働組合鈴鹿支部 | F440: 238 | G440: 4
A441: =RIGHT("00000"&F441,5) -> 00238 | B441: =RIGHT("00000"&G441,5) -> 00005 | C441: 0010000005 | D441: シキボウ労働組合八日市支部 | F441: 238 | G441: 5
A442: =RIGHT("00000"&F442,5) -> 00238 | B442: =RIGHT("00000"&G442,5) -> 00006 | C442: 0010000006 | D442: シキボウ労働組合八幡支部 | F442: 238 | G442: 6
A443: =RIGHT("00000"&F443,5) -> 00238 | B443: =RIGHT("00000"&G443,5) -> 00007 | C443: 0010000007 | D443: シキボウ労働組合本社支部 | F443: 238 | G443: 7
A444: =RIGHT("00000"&F444,5) -> 00238 | B444: =RIGHT("00000"&G444,5) -> 00008 | C444: 0010100000 | D444: ダイワボウ労働組合 | F444: 238 | G444: 8
A445: =RIGHT("00000"&F445,5) -> 00238 | B445: =RIGHT("00000"&G445,5) -> 00009 | C445: 0010100001 | D445: ダイワボウ労働組合東京支部 | F445: 238 | G445: 9
A446: =RIGHT("00000"&F446,5) -> 00238 | B446: =RIGHT("00000"&G446,5) -> 00010 | C446: 0010100002 | D446: ダイワボウ労働組合美川支部 | F446: 238 | G446: 10
A447: =RIGHT("00000"&F447,5) -> 00238 | B447: =RIGHT("00000"&G447,5) -> 00011 | C447: 0010100003 | D447: ダイワボウ労働組合 舞鶴支部 | F447: 238 | G447: 11
... A9623: =RIGHT("00000"&F9623,5) -> 02095 | B9623: =RIGHT("00000"&G9623,5) -> 00000 | C9623: B4078-00002 | D9623: マルイグループ福祉会 | F9623: 2095 | G9623: 0
A9624: =RIGHT("00000"&F9624,5) -> 02095 | B9624: =RIGHT("00000"&G9624,5) -> 00001 | F9624: 2095 | G9624: 1
A9625: =RIGHT("00000"&F9625,5) -> 02096 | B9625: =RIGHT("00000"&G9625,5) -> 00000 | F9625: 2096 | G9625: 0
A9626: =RIGHT("00000"&F9626,5) -> 02096 | B9626: =RIGHT("00000"&G9626,5) -> 00001 | F9626: 2096 | G9626: 1
A9627: =RIGHT("00000"&F9627,5) -> 02096 | B9627: =RIGHT("00000"&G9627,5) -> 00002 | F9627: 2096 | G9627: 2
A9628: =RIGHT("00000"&F9628,5) -> 02096 | B9628: =RIGHT("00000"&G9628,5) -> 00003 | F9628: 2096 | G9628: 3
A9629: =RIGHT("00000"&F9629,5) -> 02097 | B9629: =RIGHT("00000"&G9629,5) -> 00000 | F9629: 2097 | G9629: 0
A9630: =RIGHT("00000"&F9630,5) -> 02097 | B9630: =RIGHT("00000"&G9630,5) -> 00001 | F9630: 2097 | G9630: 1
A9631: =RIGHT("00000"&F9631,5) -> 02097 | B9631: =RIGHT("00000"&G9631,5) -> 00003 | F9631: 2097 | G9631: 3
A9632: =RIGHT("00000"&F9632,5) -> 02098 | B9632: =RIGHT("00000"&G9632,5) -> 00000 | F9632: 2098 | G9632: 0
A9633: =RIGHT("00000"&F9633,5) -> 02098 | B9633: =RIGHT("00000"&G9633,5) -> 00004 | F9633: 2098 | G9633: 4
A9634: =RIGHT("00000"&F9634,5) -> 02098 | B9634: =RIGHT("00000"&G9634,5) -> 00007 | F9634: 2098 | G9634: 7
A9635: =RIGHT("00000"&F9635,5) -> 02098 | B9635: =RIGHT("00000"&G9635,5) -> 00008 | F9635: 2098 | G9635: 8
... A13915: =RIGHT("00000"&F13915,5) -> 05574 | B13915: =RIGHT("00000"&G13915,5) -> 00000 | F13915: 5574 | G13915: 0
A13916: =RIGHT("00000"&F13916,5) -> U0000 | B13916: =RIGHT("00000"&G13916,5) -> 00000 | F13916: U0000 | G13916: 0
A13917: =RIGHT("00000"&F13917,5) -> U0100 | B13917: =RIGHT("00000"&G13917,5) -> 00000 | F13917: U0100 | G13917: 0
A13918: =RIGHT("00000"&F13918,5) -> U0200 | B13918: =RIGHT("00000"&G13918,5) -> 00000 | F13918: U0200 | G13918: 0
A13919: =RIGHT("00000"&F13919,5) -> U0300 | B13919: =RIGHT("00000"&G13919,5) -> 00000 | F13919: U0300 | G13919: 0
A13920: =RIGHT("00000"&F13920,5) -> U0400 | B13920: =RIGHT("00000"&G13920,5) -> 00000 | F13920: U0400 | G13920: 0
A13921: =RIGHT("00000"&F13921,5) -> U0500 | B13921: =RIGHT("00000"&G13921,5) -> 00000 | F13921: U0500 | G13921: 0
A13922: =RIGHT("00000"&F13922,5) -> U0600 | B13922: =RIGHT("00000"&G13922,5) -> 00000 | F13922: U0600 | G13922: 0
A13923: =RIGHT("00000"&F13923,5) -> U0700 | B13923: =RIGHT("00000"&G13923,5) -> 00000 | F13923: U0700 | G13923: 0
A13924: =RIGHT("00000"&F13924,5) -> U0800 | B13924: =RIGHT("00000"&G13924,5) -> 00000 | F13924: U0800 | G13924: 0
A13925: =RIGHT("00000"&F13925,5) -> U0900 | B13925: =RIGHT("00000"&G13925,5) -> 00000 | F13925: U0900 | G13925: 0
A13926: =RIGHT("00000"&F13926,5) -> U1000 | B13926: =RIGHT("00000"&G13926,5) -> 00000 | F13926: U1000 | G13926: 0
A13927: =RIGHT("00000"&F13927,5) -> U1100 | B13927: =RIGHT("00000"&G13927,5) -> 00000 | F13927: U1100 | G13927: 0
... A13958: =RIGHT("00000"&F13958,5) -> U4600 | B13958: =RIGHT("00000"&G13958,5) -> 00000 | F13958: U4600 | G13958: 0

Sheet 計算用-行事年間一括
C1: Ⅰ型 | D1: Ⅱ型 | E1: Ⅲ型 | F1: Ⅳ型 | H1: オリエンテーリング（徒歩によるもの） | I1: Aランク | K1: Ⅰ型 | L1: 4,000万円 | M1: 10,000円 | N1: 6,000円
A2: 宿泊行事タイプ | B2: 1泊2日 | C2: 1090 | D2: 850 | E2: 620 | F2: 400 | H2: 運動会 | I2: Bランク | K2: Ⅱ型 | L2: 3,000万円 | M2: 8,000円 | N2: 5,000円
A3: 宿泊行事タイプ | B3: 2泊3日 | C3: 1320 | D3: 1030 | E3: 750 | F3: 480 | H3: アスレチック | I3: Cランク | K3: Ⅲ型 | L3: 2,000万円 | M3: 6,000円 | N3: 4,000円
A4: 宿泊行事タイプ | B4: 3泊4日 | C4: 1320 | D4: 1030 | E4: 750 | F4: 480 | H4: バスケットボール大会 | I4: Cランク | K4: Ⅳ型 | L4: 1,000万円 | M4: 5,000円 | N4: 3,000円
A5: 宿泊行事タイプ | B5: 4泊5日 | C5: 1570 | D5: 1230 | E5: 890 | F5: 560
A6: 宿泊行事タイプ | B6: 5泊6日 | C6: 1570 | D6: 1230 | E6: 890 | F6: 560
A7: 宿泊行事タイプ | B7: 6泊7日 | C7: 1570 | D7: 1230 | E7: 890 | F7: 560
C8: Ⅰ型 | D8: Ⅱ型 | E8: Ⅲ型 | F8: Ⅳ型
A9: 日帰り行事タイプ | B9: Aランク | C9: 180 | D9: 140 | E9: 100 | F9: 60
A10: 日帰り行事タイプ | B10: Bランク | C10: 860 | D10: 660 | E10: 460 | F10: 270
A11: 日帰り行事タイプ | B11: Cランク | C11: 1730 | D11: 1320 | E11: 910 | F11: 530

Sheet 申込手順
A1: 「保障対象期間：2026年12月～2027年11月」用 組合活動共済 申込手順
A2: ※本ファイルは該当の保障対象期間専用です。保障対象期間外の申込には使用できませんのでご注意ください。
A3: 1. | B3: シー ト 「共通_申込書」 の黄色セルを入力します。
B4: 以下「２.(1)～(4)」いずれかのコースに加入の際は、加入コースに関わらず「共通_申込書」への入力が【必須】です。
C5: ※「行事コース（随時加入型）」の場合のみ、別ファイル【②27組活_加入＆変更（行事随時加入型）】にて
C6: お申し込みください。
A8: 2. | B8: 加入するコースのシートを作成します。
C9: （1）組合役員コース
D10: シート「役員_加入依頼書兼人数報告書兼役員名簿」の黄色セルに入力します。
D11: 役員名簿を入力すると、人数および掛金が自動反映します。
D12: ※役員名簿の上段に「氏名と加入タイプの数が不一致です」「加入可能なタイプ数は最大2タイプです」の
D13: エラー表示が出た場合は、エラーメッセージが消えるよう名簿を修正してください。
D14: ※役員名簿の組合使用欄1･2は任意項目です。所属店名などのメモ欄として適宜ご使用ください。
C15: （2）組合員一括コース
D16: シート「組合員一括_加入依頼書兼人数報告書」の黄色セルに入力します。
C17: （3）組合賠償責任コース
D18: シート 「組合賠責_加入依頼書兼人数報告書」 の黄色セルに入力します。
C19: （4）行事コース（年間一括加入型）
D20: シート 「行事年間一括_加入依頼書兼年間計画書」 の黄色セルに入力します。
D21: ※年間計画書に記載する行事予定はあくまでも予定ですので、実際に実施する行事の規模・人数等と大幅 に異ならない範囲で概算入力してください。予定と実際の開催に差異があった場合でも、給付事故が発生し た際は、実態（月間報告書ベース）に応じて査定します。
D22: ※毎月10日までに、前月の活動結果を別ファイル【③27組活_月例報告（行事年間一括加入型）】にて 月例報告書の提出が必要です。
A24: 3. | B24: シート「共通_申込書」 の下部にある掛金振込予定日（黄色セル）を入力し、プリントアウトします。
A26: 4. | B26: 上記3.に組合印を押印し、PDFファイルにします。
A28: 5. | B28: 上記4.のPDFファイルと、このExcelファイルを組合活動共済専用アドレスにメールで提出します。
B29: ※メールアドレス：kumiaikatsudo@uazensen.jp
A31: 6. | B31: 振込予定日にあわせて加入コース合計の掛金を掛金振込先へお振り込みください。
B32: ※振込金額・振込先は、シート「共通_申込書」に記載があります。

Sheet 共通_申込書
A1: ①組合活動共済 【共通】 申込書 （保障対象期間2026年12月1日～2027年11月30日）
A3: 黄色セルをすべて入力・印刷・押印のうえ、PDFをkumiaikatsudo@uazensen.jpまでメールで提出ください
A4: （黄色セル以外は入力できません）。
A5: 申込日 | F5: 保障開始日 | M5: =YEAR(H5) -> 1900 | N5: =MONTH(H5) -> 1 | O5: =M5&"_"&N5&"_"&C7&"_"&G7&"（申込書）" -> 1900_1__（申込書）
A7: 組合コード※ | F7: 組合名 | G7: =IFERROR(VLOOKUP(C7,'04-マスター'!C:D,2,0),"")
A8: ※Kコード組合は必ずKコードを入力してください。
A10: 住所 | C10: 〒 | E10: -
A12: 代表者 | C12: （役職） | F12: （氏名） | H12: 連絡先 | I12: （電話）
I13: （E-MAIL）
A15: ＜ご加入時の同意内容について＞ | L15: ↓組合印の押印必須↓
A17: 私と保障対象者全員は、以下の事項について確認・同意のうえ加入を依頼します。
A18: ①私が共済契約者である企業または団体の構成員であること | I18: ②重要事項説明書の内容
A19: ③重要事項説明書添付の「ご加入内容確認事項」の内容 | I19: ➃「個人情報の取り扱い」の内容
A21: 私は、＜ご加入時の同意内容について＞を確認し、共済契約者である企業・団体に対して加入を依頼します。
A24: ↓掛金欄に金額のあるコースがお申し込みのコースとなります。2026年11月30日までに着金するようお手配ください。
A25: 組合役員コース | D25: 組合員一括コース | G25: 組合賠償責任コース | J25: 行事コース （年間一括加入型）
A26: 掛金（円） | D26: 掛金（円） | G26: 掛金（円） | J26: 掛金（円） | N26: 合計（円）
A27: =役員_加入依頼書兼人数報告書兼役員名簿!M25 -> 0 | D27: =組合員一括_加入依頼書兼人数報告書!M16 -> 0 | G27: =組合賠責_加入依頼書兼人数報告書!L16 -> 0 | J27: =行事年間一括_加入依頼書兼年間計画書!M101+行事年間一括_加入依頼書兼年間計画書!AC101 -> 0 | M27: ⇒ | N27: =SUM(A27:L27) -> 0
A29: 【個人情報の取り扱いに関するご案内】 保険契約者である企業または団体は東京海上日動火災保険株式会社に本契約に関する個人情報を提いたします。引受保険会社および引受保険会社のグループ各社は、本契約に関する個人情報を、保険引受の判断、本契約の管理・履行、付帯サービスの提供、他の保険・金融商品等の各種商品・サービスの案内・提供、アンケート等を行うために利用する他、下記①から⑥の利用・提供を行うことがあります。なお、保健医療等の特別な非公開情報（センシティブ情報）の利用目的は、保険業法施行規則により、業務の適切な運営の確保その他必要と認められる範囲に限定されています。 ①本契約に関する個人情報の利用目的の達成に必要な範囲内で、業務委託先（保険代理店を含みます。）、保険仲立人、医療機関、保険金の請求・支払いに関する関係先、金融機関等に対して提供すること ②契約締結、保険金支払い等の判断をするうえでの参考とするために、他の保険会社、一般社団法人日本損害保険協会等と共同して利用すること ③引受保険会社と引受保険会社のグループ各社または引受保険会社の提携先企業等との間で商品・サービス等の提供・案内のために、共同して利用すること ④再保険契約の締結、更新・管理、再保険金支払等に利用するために、国内外の再保険引受会社等に提供すること ⑤質権、抵当権等の担保権者における担保権の設定等に係る事務手続きや担保権の管理・行使のために、その担保権者に提供すること ⑥更新契約に係る保険引受の判断等、契約の安定的な運用を図るために、保険の対象となる方の保険金請求情報等（過去の情報を含みます。）をご契約者およびご加入者に、ご加入者および保険の対象となる方の保険加入情報等（過去の情報を含みます。）をご契約者に対して提供すること 詳しくは、東京海上日動火災保険株式会社のホームページ（www.tokiomarinenichido.co.jp）および他の引受保険会社のホームページをご参照ください。
A31: 各依頼書の☆または★が付された事項は、ご加入に関する重要な事項（告知事項）です。これらについてお答えいただいた内容が事実と異なる場合や事実をお答えいただかない場合は、ご加入を解除し、給付金をお支払いできないことがありますのでご注意ください。また☆が付された事項（通知事項）に内容の変更が生じた場合には、遅滞なく引受保険会社にご連絡ください。ご連絡がない場合は、お支払いする給付金が削減されることや、ご契約を解除し給付金をお支払いできないことがありますのでご注意ください。
A33: ※保障開始日の前日までに下記口座へ掛金が着金していないと保障開始となりません。
A34: 掛金振込先 | K34: 振込掛金
A36: 中央労働金庫 市谷支店 （普）1002117 ＵＡゼンセン福祉共済互助会 | K36: =A27+D27+J27+G27 -> 0 | N36: 円
A38: 掛金振込予定日（西暦） | E38: 20 | G38: 年 | I38: 月 | K38: 日
O41: UAゼンセン着金確認日： 月 日

Sheet 役員_加入依頼書兼人数報告書兼役員名簿
A1: ①組合活動共済 【組合役員コース】 加入依頼書兼人数報告書兼役員名簿 （保障対象期間2026年12月1日～2027年11月30日）
A2: 【重要】 2027年12月1日保障開始分より自動更新となります。更新時も人数報告・名簿提出および名簿備え付けは引き続き必要で、期限内に手続きがない場合は直前の申込内容で自動更新となります。なお、報告内容が実態と著しく異なる場合は給付金のお支払いに影響が生じることがありますので、期限内の確実な人数報告をお願いします。具体的な手続き方法・時期は別途ご案内します。
A3: 黄色セルをすべて入力ください（黄色セル以外は入力できません）。
A4: 申込日 | C4: =共通_申込書!C5 -> 0 | F4: 保障開始日 | H4: =IF(共通_申込書!H5="","",共通_申込書!H5) | L4: 区分 | Q4: ↓エラー表示欄（グレーのセル） ここに「氏名と加入タイプの数が不一致です」「加入可能なタイプ数は最大2タイプです」のエラー表示が出た場合は、エラーメッセージが消えるよう名簿を修正してください。
A7: 組合コード | C7: =共通_申込書!C7 -> 0 | F7: 組合名 | G7: =共通_申込書!G7
Q8: =IF(COUNTA(U13:U712)=COUNTA(X13:X712),"","氏名と加入タイプの数が不一致です。") | X8: =IF(AI14>=3,"加入可能なタイプ数は最大２タイプです。","")
AG10: S型 | AH10: =COUNTIF(X13:X712,AG10) -> 0 | AI10: =IF(AH10>=1,1,0) -> 0
Q11: ●役員名簿 | AG11: A型 | AH11: =COUNTIF(X13:X712,AG11) -> 0 | AI11: =IF(AH11>=1,1,0) -> 0
A12: 住所 | C12: 〒 | D12: =共通_申込書!D10 -> 0 | E12: - | F12: =共通_申込書!F10 -> 0 | Q12: NO. | R12: 組合役職 | U12: 氏名 | W12: 性別 | X12: 加入タイプ | Z12: 組合使用欄１ | AC12: 組合使用欄２ | AG12: B型 | AH12: =COUNTIF(X13:X712,AG12) -> 0 | AI12: =IF(AH12>=1,1,0) -> 0
Q13: 1 | AG13: C型 | AH13: =COUNTIF(X13:X712,AG13) -> 0 | AI13: =IF(AH13>=1,1,0) -> 0
C14: =共通_申込書!C11 -> 0 | Q14: =Q13+1 -> 2 | AI14: =SUM(AI10:AI13) -> 0
Q15: =Q14+1 -> 3
A16: 代表者 | C16: （役職） | F16: （氏名） | H16: 連絡先 | I16: （電話） | K16: =共通_申込書!K12 -> 0 | Q16: =Q15+1 -> 4
Q17: =Q16+1 -> 5
C18: =共通_申込書!C13 -> 0 | F18: =共通_申込書!F13 -> 0 | I18: （E-MAIL） | K18: =共通_申込書!K13 -> 0 | Q18: =Q17+1 -> 6
Q19: =Q18+1 -> 7
Q20: =Q19+1 -> 8
Q21: =Q20+1 -> 9
Q22: =Q21+1 -> 10
A23: 加入タイプ | C23: 掛金年額／人 | F23: 加入月数 | H23: 人数 | J23: タイプ別掛金 | M23: 掛金合計 | Q23: =Q22+1 -> 11
Q24: =Q23+1 -> 12
A25: S型 | C25: 10500 | E25: 円 | F25: =IFERROR(IF(H25=0,0,'計算用-役員コース'!G2),0) -> 0 | G25: ヶ月 | H25: =COUNTIF($X$13:$Y$712,A25) -> 0 | I25: 人 | J25: =IFERROR(ROUND(C25/12*F25,-1)*H25,"開始日未入力") -> 0 | L25: 円 | M25: =SUM(J25:K31) -> 0 | O25: 円 | Q25: =Q24+1 -> 13
Q26: =Q25+1 -> 14
A27: A型 | C27: 7500 | E27: 円 | F27: =IFERROR(IF(H27=0,0,'計算用-役員コース'!G2),0) -> 0 | G27: ヶ月 | H27: =COUNTIF($X$13:$Y$712,A27) -> 0 | I27: 人 | J27: =IFERROR(ROUND(C27/12*F27,-1)*H27,"開始日未入力") -> 0 | L27: 円 | Q27: =Q26+1 -> 15
Q28: =Q27+1 -> 16
A29: B型 | C29: 5500 | E29: 円 | F29: =IFERROR(IF(H29=0,0,'計算用-役員コース'!G2),0) -> 0 | G29: ヶ月 | H29: =COUNTIF($X$13:$Y$712,A29) -> 0 | I29: 人 | J29: =IFERROR(ROUND(C29/12*F29,-1)*H29,"開始日未入力") -> 0 | L29: 円 | Q29: =Q28+1 -> 17
Q30: =Q29+1 -> 18
A31: C型 | C31: 3500 | E31: 円 | F31: =IFERROR(IF(H31=0,0,'計算用-役員コース'!G2),0) -> 0 | G31: ヶ月 | H31: =COUNTIF($X$13:$Y$712,A31) -> 0 | I31: 人 | J31: =IFERROR(ROUND(C31/12*F31,-1)*H31,"開始日未入力") -> 0 | L31: 円 | Q31: =Q30+1 -> 19
Q32: =Q31+1 -> 20
A33: ※掛金は１円単位を四捨五入し10円単位にします。 ※原則として１組合1タイプとしますが、組合名義で政府労災保険に加入している場合は政府労災保険の加入者・未加入者別ごとに別タイプに加入する ことができます（1組合２タイプまで）。 | Q33: =Q32+1 -> 21
Q34: =Q33+1 -> 22
Q35: =Q34+1 -> 23
Q36: =Q35+1 -> 24
Q37: =Q36+1 -> 25
Q38: =Q37+1 -> 26
A39: 他の保険契約等（ご加入の保険契約の全部または一部に対して支払責任が同じである他の保険契約または共済契約をいいます）がある場合は、下表に詳細を記入ください。 | Q39: =Q38+1 -> 27
Q40: =Q39+1 -> 28
A41: ★他の保険契約等 | F41: ←「あり」「なし」の選択は必須です。 | Q41: =Q40+1 -> 29
Q42: =Q41+1 -> 30
Q43: =Q42+1 -> 31
A44: 被保険者氏名 | D44: 保険会社・共済会社 | G44: 保険種類 | J44: 満期日 （補償の満了する日） | M44: 保険金額・支払限度額 （ご契約金額） | Q44: =Q43+1 -> 32
Q45: =Q44+1 -> 33
Q46: =Q45+1 -> 34
Q47: =Q46+1 -> 35
Q48: =Q47+1 -> 36
Q49: =Q48+1 -> 37
Q50: =Q49+1 -> 38
Q51: =Q50+1 -> 39
Q52: =Q51+1 -> 40
Q53: =Q52+1 -> 41
Q54: =Q53+1 -> 42
Q55: =Q54+1 -> 43
Q56: =Q55+1 -> 44
... Q712: =Q711+1 -> 700

Sheet 組合員一括_加入依頼書兼人数報告書
A1: ①組合活動共済 【組合員一括コース】 加入依頼書兼人数報告書 （保障対象期間2026年12月1日～2027年11月30日）
A2: 【重要】 2027年12月1日保障開始分より自動更新となります。更新時も人数報告および名簿備え付けは引き続き必要で、期限内に手続きがない場合は直前の申込内容で自動更新となります。なお、報告内容が実態と著しく異なる場合は給付金のお支払いに影響が生じることがありますので、期限内の確実な人数報告をお願いします。具体的な手続き方法・時期は別途ご案内します。
A4: 黄色セルをすべて入力ください（黄色セル以外は入力できません）。
A6: 申込日 | C6: =共通_申込書!C5 -> 0 | F6: 保障開始日 | H6: =IF(共通_申込書!H5="","",共通_申込書!H5) | K6: 区分
A8: 組合コード | C8: =共通_申込書!C7 -> 0 | F8: 組合名 | G8: =共通_申込書!G7
A10: 住所 | C10: 〒 | D10: =共通_申込書!D10 -> 0 | E10: - | F10: =共通_申込書!F10 -> 0
C11: =共通_申込書!C11 -> 0
A12: 代表者 | C12: （役職） | F12: （氏名） | H12: 連絡先 | I12: （電話） | K12: =共通_申込書!K12 -> 0
C13: =共通_申込書!C13 -> 0 | F13: =共通_申込書!F13 -> 0 | I13: （E-MAIL） | K13: =共通_申込書!K13 -> 0
A15: 加入タイプ | C15: 加入口数 | E15: 掛金年額／人 | H15: 加入月数 | J15: 組合員数 | M15: 掛金合計
D16: 口 | E16: =IF(A16="D型",120,IF(A16="E型",70,0))*C16 -> 0 | G16: 円 | H16: =IFERROR('計算用-組合員'!G2,0) -> 0 | I16: ヶ月 | L16: 人 | M16: =ROUND(E16/12*H16,-1)*J16 -> 0 | O16: 円
A17: ※掛金は１円単位を四捨五入し10円単位にします。 ※１組合1タイプとし、4口まで加入できます。
A20: 他の保険契約等（ご加入の保険契約の全部または一部に対して支払責任が同じである他の保険契約または共済契約をいいます）がある場合は、下表に詳細を記入ください。
A22: ★他の保険契約等 | F22: ←「あり」「なし」の選択は必須です。
A24: 被保険者氏名 | D24: 保険会社・共済会社 | G24: 保険種類 | J24: 満期日 （補償の満了する日） | M24: 保険金額・支払限度額 （ご契約金額）

Sheet 組合賠責_加入依頼書兼人数報告書
A1: ①組合活動共済 【組合賠償責任コース】 加入依頼書兼人数報告書 （保障対象期間2026年12月1日～2027年11月30日）
A2: 【重要】 2027年12月1日保障開始分より自動更新となります。更新時も人数報告および名簿備え付けは引き続き必要で、期限内に手続きがない場合は直前の申込内容で自動更新となります。なお、報告内容が実態と著しく異なる場合は給付金のお支払いに影響が生じることがありますので、期限内の確実な人数報告をお願いします。具体的な手続き方法・時期は別途ご案内します。
A4: 黄色セルをすべて入力ください（黄色セル以外は入力できません）。
A6: 申込日 | C6: =共通_申込書!C5 -> 0 | F6: 保障開始日 | H6: =IF(共通_申込書!H5="","",共通_申込書!H5) | K6: 区分
A8: 組合コード | C8: =共通_申込書!C7 -> 0 | F8: 組合名 | G8: =IFERROR(VLOOKUP(C8,'04-マスター'!C:D,2,0),"")
A10: 住所 | C10: 〒 | D10: =共通_申込書!D10 -> 0 | E10: - | F10: =共通_申込書!F10 -> 0
C11: =共通_申込書!C11 -> 0
A12: 代表者 | C12: （役職） | F12: （氏名） | H12: 連絡先 | I12: （電話） | K12: =共通_申込書!K12 -> 0
C13: =共通_申込書!C13 -> 0 | F13: =共通_申込書!F13 -> 0 | I13: （E-MAIL） | K13: =共通_申込書!K13 -> 0
A15: 加入タイプ | C15: 掛金年額／人 | F15: 加入月数 | H15: ★組合員数 | L15: 掛金合計
C16: =IF(A16="F型",10,IF(A16="G型",8,0)) -> 0 | E16: 円 | F16: =IFERROR('計算用-賠償責任'!G2,0) -> 0 | G16: ヶ月 | K16: 人 | L16: =ROUND(C16/12*F16,0)*H16 -> 0 | O16: 円
A17: ※掛金は10銭単位を四捨五入し1円単位にします。 ※１組合1タイプとします。
A19: 告知事項申告欄 | B19: ★1. | C19: 本共済で保障の対象となる危険について、過去5年以内に損害賠償請求を受けたことがありますか（過去に引受保険会社と締結した保険契約の申込み時において、すでに告知いただいたものを除きます）。 | N19: 回答欄
B21: ★2. | C21: 本共済で保障の対象となる危険について、将来損害賠償請求を受けるおそれのある事実が既に発生していることを知っていますか（過去に引受保険会社と締結した保険契約の申込み時において、すでに告知いただいたものを除きます）。 | N21: 回答欄
B23: 3. | C23: 上記1、2のいずれかが「はい」の場合は、その具体的な内容を記入てください。
A26: 他の保険契約等（ご加入の保険契約の全部または一部に対して支払責任が同じである他の保険契約または共済契約をいいます）がある場合は、下表に詳細を記入ください。
A28: ★他の保険契約等 | F28: ←「あり」「なし」の選択は必須です。
A30: 会社名 | E30: 保険等の種類 | J30: 満期日 | M30: 保険金額 （支払限度額）

Sheet 行事年間一括_加入依頼書兼年間計画書
A1: ①組合活動共済 【行事コース 年間一括加入型】 加入依頼書兼年間計画書 （保障対象期間2026年12月1日～2027年11月30日）
A2: 【重要】 2027年12月1日保障開始分より自動更新となります。更新時も年間計画書の提出は引き続き必要で、期限内に手続きがない場合は直前の申込内容で自動更新となります。なお、年間計画書は実際の行事内容と大幅に異ならない範囲の概算入力としていますが、期限内の確実な年間計画報告をお願いします。具体的な手続き方法・時期は別途ご案内します。
A3: 黄色セルをすべて入力ください（黄色セル以外は入力できません）。
A4: 申込日 | C4: =共通_申込書!C5 -> 0 | E4: 組合コード | G4: =共通_申込書!C7 -> 0 | I4: 組合名 | J4: =IFERROR(VLOOKUP(G4,'04-マスター'!C:D,2,0),"") | N4: 区分
A6: 住所 | C6: 〒 | D6: =共通_申込書!D10 -> 0 | E6: - | F6: =共通_申込書!F10 -> 0
C7: =共通_申込書!C11 -> 0 | W7: ← こちらをクリック
A8: 代表者 | C8: （役職） | F8: （氏名） | H8: 連絡先 | I8: （電話） | K8: =共通_申込書!K12 -> 0
C9: =共通_申込書!C13 -> 0 | F9: =共通_申込書!F13 -> 0 | I9: （E-MAIL） | K9: =共通_申込書!K13 -> 0
A11: 他の保険契約等（ご加入の保険契約の全部または一部に対して支払責任が同じである他の保険契約または共済契約をいいます）がある場合は、下表に詳細を記入ください。
A12: ★他の保険契約等 | F12: ←「あり」「なし」の選択は必須です。 | Q12: 魚釣り（船上での釣り、船を使用して釣り場に行って行うもの）、スカイダイビング、ハンググライダー操縦（搭乗）、スキューバダイビング、ラフティング、いかだ（川下り）、祭り（危険度の高いもの）、草刈（家庭用電動工具以上の工具やチェーンソーを使用するもの）、ボルダリング、サバイバルゲーム、行事のための準備・後片付けのみを作業の目的とするもの等は日帰り行事では対象外となります
A14: 被保険者氏名 | D14: 保険会社・共済会社 | G14: 保険種類 | J14: 満期日 （補償の満了する日） | M14: 保険金額・支払限度額 （ご契約金額）
F16: 「あり」「なし」の選択は必須です。↓ | G16: 旅行中に従事する職業・職務がある方がいた場合、 お名前と内容を記入→
A17: ★旅行中に従事する職業・職務
A20: 行事名 | E20: 型 | F20: ランク | G20: 掛金／人 | I20: 平均参加予定人数 | K20: 開催予定回数 | M20: 掛金 | Q20: 行事内容 | U20: 型 | V20: 日数 | W20: 掛金／人 | Y20: 平均参加予定人数 | AA20: 開催予定回数 | AC20: 掛金
G21: =IF(AND(A21="",E21="",F21=""),"",IF(A21="","行事名未記入",(IFERROR(INDEX('計算用-行事年間一括'!$C$9:$F$11,MATCH(行事年間一括_加入依頼書兼年間計画書!F21,'計算用-行事年間一括'!$B$9:$B$11,0),(MATCH(行事年間一括_加入依頼書兼年間計画書!E21,'計算用-行事年間一括'!$C$8:$F$8,0))),"")))) | H21: 円 | J21: 人 | L21: 回 | M21: =IFERROR(I21*G21*K21,"") | O21: 円 | W21: =IF(AND(Q21="",U21="",V21=""),"",IF(Q21="","行事名未記入",IFERROR(INDEX('計算用-行事年間一括'!$C$2:$F$7,MATCH(V21,'計算用-行事年間一括'!$B$2:$B$7,0),(MATCH(U21,'計算用-行事年間一括'!$C$1:$F$1,0))),""))) | X21: 円 | Z21: 人 | AB21: 回 | AC21: =IFERROR(W21*AA21*Y21,"") | AE21: 円
G22: =IF(AND(A22="",E22="",F22=""),"",IF(A22="","行事名未記入",(IFERROR(INDEX('計算用-行事年間一括'!$C$9:$F$11,MATCH(行事年間一括_加入依頼書兼年間計画書!F22,'計算用-行事年間一括'!$B$9:$B$11,0),(MATCH(行事年間一括_加入依頼書兼年間計画書!E22,'計算用-行事年間一括'!$C$8:$F$8,0))),"")))) | H22: 円 | J22: 人 | L22: 回 | M22: =IFERROR(I22*G22*K22,"") | O22: 円 | W22: =IF(AND(Q22="",U22="",V22=""),"",IF(Q22="","行事名未記入",IFERROR(INDEX('計算用-行事年間一括'!$C$2:$F$7,MATCH(V22,'計算用-行事年間一括'!$B$2:$B$7,0),(MATCH(U22,'計算用-行事年間一括'!$C$1:$F$1,0))),""))) | X22: 円 | Z22: 人 | AB22: 回 | AC22: =IFERROR(W22*AA22*Y22,"") | AE22: 円
G23: =IF(AND(A23="",E23="",F23=""),"",IF(A23="","行事名未記入",(IFERROR(INDEX('計算用-行事年間一括'!$C$9:$F$11,MATCH(行事年間一括_加入依頼書兼年間計画書!F23,'計算用-行事年間一括'!$B$9:$B$11,0),(MATCH(行事年間一括_加入依頼書兼年間計画書!E23,'計算用-行事年間一括'!$C$8:$F$8,0))),"")))) | H23: 円 | J23: 人 | L23: 回 | M23: =IFERROR(I23*G23*K23,"") | O23: 円 | W23: =IF(AND(Q23="",U23="",V23=""),"",IF(Q23="","行事名未記入",IFERROR(INDEX('計算用-行事年間一括'!$C$2:$F$7,MATCH(V23,'計算用-行事年間一括'!$B$2:$B$7,0),(MATCH(U23,'計算用-行事年間一括'!$C$1:$F$1,0))),""))) | X23: 円 | Z23: 人 | AB23: 回 | AC23: =IFERROR(W23*AA23*Y23,"") | AE23: 円
G24: =IF(AND(A24="",E24="",F24=""),"",IF(A24="","行事名未記入",(IFERROR(INDEX('計算用-行事年間一括'!$C$9:$F$11,MATCH(行事年間一括_加入依頼書兼年間計画書!F24,'計算用-行事年間一括'!$B$9:$B$11,0),(MATCH(行事年間一括_加入依頼書兼年間計画書!E24,'計算用-行事年間一括'!$C$8:$F$8,0))),"")))) | H24: 円 | J24: 人 | L24: 回 | M24: =IFERROR(I24*G24*K24,"") | O24: 円 | W24: =IF(AND(Q24="",U24="",V24=""),"",IF(Q24="","行事名未記入",IFERROR(INDEX('計算用-行事年間一括'!$C$2:$F$7,MATCH(V24,'計算用-行事年間一括'!$B$2:$B$7,0),(MATCH(U24,'計算用-行事年間一括'!$C$1:$F$1,0))),""))) | X24: 円 | Z24: 人 | AB24: 回 | AC24: =IFERROR(W24*AA24*Y24,"") | AE24: 円
G25: =IF(AND(A25="",E25="",F25=""),"",IF(A25="","行事名未記入",(IFERROR(INDEX('計算用-行事年間一括'!$C$9:$F$11,MATCH(行事年間一括_加入依頼書兼年間計画書!F25,'計算用-行事年間一括'!$B$9:$B$11,0),(MATCH(行事年間一括_加入依頼書兼年間計画書!E25,'計算用-行事年間一括'!$C$8:$F$8,0))),"")))) | H25: 円 | J25: 人 | L25: 回 | M25: =IFERROR(I25*G25*K25,"") | O25: 円 | W25: =IF(AND(Q25="",U25="",V25=""),"",IF(Q25="","行事名未記入",IFERROR(INDEX('計算用-行事年間一括'!$C$2:$F$7,MATCH(V25,'計算用-行事年間一括'!$B$2:$B$7,0),(MATCH(U25,'計算用-行事年間一括'!$C$1:$F$1,0))),""))) | X25: 円 | Z25: 人 | AB25: 回 | AC25: =IFERROR(W25*AA25*Y25,"") | AE25: 円
G26: =IF(AND(A26="",E26="",F26=""),"",IF(A26="","行事名未記入",(IFERROR(INDEX('計算用-行事年間一括'!$C$9:$F$11,MATCH(行事年間一括_加入依頼書兼年間計画書!F26,'計算用-行事年間一括'!$B$9:$B$11,0),(MATCH(行事年間一括_加入依頼書兼年間計画書!E26,'計算用-行事年間一括'!$C$8:$F$8,0))),"")))) | H26: 円 | J26: 人 | L26: 回 | M26: =IFERROR(I26*G26*K26,"") | O26: 円 | W26: =IF(AND(Q26="",U26="",V26=""),"",IF(Q26="","行事名未記入",IFERROR(INDEX('計算用-行事年間一括'!$C$2:$F$7,MATCH(V26,'計算用-行事年間一括'!$B$2:$B$7,0),(MATCH(U26,'計算用-行事年間一括'!$C$1:$F$1,0))),""))) | X26: 円 | Z26: 人 | AB26: 回 | AC26: =IFERROR(W26*AA26*Y26,"") | AE26: 円
G27: =IF(AND(A27="",E27="",F27=""),"",IF(A27="","行事名未記入",(IFERROR(INDEX('計算用-行事年間一括'!$C$9:$F$11,MATCH(行事年間一括_加入依頼書兼年間計画書!F27,'計算用-行事年間一括'!$B$9:$B$11,0),(MATCH(行事年間一括_加入依頼書兼年間計画書!E27,'計算用-行事年間一括'!$C$8:$F$8,0))),"")))) | H27: 円 | J27: 人 | L27: 回 | M27: =IFERROR(I27*G27*K27,"") | O27: 円 | W27: =IF(AND(Q27="",U27="",V27=""),"",IF(Q27="","行事名未記入",IFERROR(INDEX('計算用-行事年間一括'!$C$2:$F$7,MATCH(V27,'計算用-行事年間一括'!$B$2:$B$7,0),(MATCH(U27,'計算用-行事年間一括'!$C$1:$F$1,0))),""))) | X27: 円 | Z27: 人 | AB27: 回 | AC27: =IFERROR(W27*AA27*Y27,"") | AE27: 円
G28: =IF(AND(A28="",E28="",F28=""),"",IF(A28="","行事名未記入",(IFERROR(INDEX('計算用-行事年間一括'!$C$9:$F$11,MATCH(行事年間一括_加入依頼書兼年間計画書!F28,'計算用-行事年間一括'!$B$9:$B$11,0),(MATCH(行事年間一括_加入依頼書兼年間計画書!E28,'計算用-行事年間一括'!$C$8:$F$8,0))),"")))) | H28: 円 | J28: 人 | L28: 回 | M28: =IFERROR(I28*G28*K28,"") | O28: 円 | W28: =IF(AND(Q28="",U28="",V28=""),"",IF(Q28="","行事名未記入",IFERROR(INDEX('計算用-行事年間一括'!$C$2:$F$7,MATCH(V28,'計算用-行事年間一括'!$B$2:$B$7,0),(MATCH(U28,'計算用-行事年間一括'!$C$1:$F$1,0))),""))) | X28: 円 | Z28: 人 | AB28: 回 | AC28: =IFERROR(W28*AA28*Y28,"") | AE28: 円
G29: =IF(AND(A29="",E29="",F29=""),"",IF(A29="","行事名未記入",(IFERROR(INDEX('計算用-行事年間一括'!$C$9:$F$11,MATCH(行事年間一括_加入依頼書兼年間計画書!F29,'計算用-行事年間一括'!$B$9:$B$11,0),(MATCH(行事年間一括_加入依頼書兼年間計画書!E29,'計算用-行事年間一括'!$C$8:$F$8,0))),"")))) | H29: 円 | J29: 人 | L29: 回 | M29: =IFERROR(I29*G29*K29,"") | O29: 円 | W29: =IF(AND(Q29="",U29="",V29=""),"",IF(Q29="","行事名未記入",IFERROR(INDEX('計算用-行事年間一括'!$C$2:$F$7,MATCH(V29,'計算用-行事年間一括'!$B$2:$B$7,0),(MATCH(U29,'計算用-行事年間一括'!$C$1:$F$1,0))),""))) | X29: 円 | Z29: 人 | AB29: 回 | AC29: =IFERROR(W29*AA29*Y29,"") | AE29: 円
G30: =IF(AND(A30="",E30="",F30=""),"",IF(A30="","行事名未記入",(IFERROR(INDEX('計算用-行事年間一括'!$C$9:$F$11,MATCH(行事年間一括_加入依頼書兼年間計画書!F30,'計算用-行事年間一括'!$B$9:$B$11,0),(MATCH(行事年間一括_加入依頼書兼年間計画書!E30,'計算用-行事年間一括'!$C$8:$F$8,0))),"")))) | H30: 円 | J30: 人 | L30: 回 | M30: =IFERROR(I30*G30*K30,"") | O30: 円 | W30: =IF(AND(Q30="",U30="",V30=""),"",IF(Q30="","行事名未記入",IFERROR(INDEX('計算用-行事年間一括'!$C$2:$F$7,MATCH(V30,'計算用-行事年間一括'!$B$2:$B$7,0),(MATCH(U30,'計算用-行事年間一括'!$C$1:$F$1,0))),""))) | X30: 円 | Z30: 人 | AB30: 回 | AC30: =IFERROR(W30*AA30*Y30,"") | AE30: 円
G31: =IF(AND(A31="",E31="",F31=""),"",IF(A31="","行事名未記入",(IFERROR(INDEX('計算用-行事年間一括'!$C$9:$F$11,MATCH(行事年間一括_加入依頼書兼年間計画書!F31,'計算用-行事年間一括'!$B$9:$B$11,0),(MATCH(行事年間一括_加入依頼書兼年間計画書!E31,'計算用-行事年間一括'!$C$8:$F$8,0))),"")))) | H31: 円 | J31: 人 | L31: 回 | M31: =IFERROR(I31*G31*K31,"") | O31: 円 | W31: =IF(AND(Q31="",U31="",V31=""),"",IF(Q31="","行事名未記入",IFERROR(INDEX('計算用-行事年間一括'!$C$2:$F$7,MATCH(V31,'計算用-行事年間一括'!$B$2:$B$7,0),(MATCH(U31,'計算用-行事年間一括'!$C$1:$F$1,0))),""))) | X31: 円 | Z31: 人 | AB31: 回 | AC31: =IFERROR(W31*AA31*Y31,"") | AE31: 円
G32: =IF(AND(A32="",E32="",F32=""),"",IF(A32="","行事名未記入",(IFERROR(INDEX('計算用-行事年間一括'!$C$9:$F$11,MATCH(行事年間一括_加入依頼書兼年間計画書!F32,'計算用-行事年間一括'!$B$9:$B$11,0),(MATCH(行事年間一括_加入依頼書兼年間計画書!E32,'計算用-行事年間一括'!$C$8:$F$8,0))),"")))) | H32: 円 | J32: 人 | L32: 回 | M32: =IFERROR(I32*G32*K32,"") | O32: 円 | W32: =IF(AND(Q32="",U32="",V32=""),"",IF(Q32="","行事名未記入",IFERROR(INDEX('計算用-行事年間一括'!$C$2:$F$7,MATCH(V32,'計算用-行事年間一括'!$B$2:$B$7,0),(MATCH(U32,'計算用-行事年間一括'!$C$1:$F$1,0))),""))) | X32: 円 | Z32: 人 | AB32: 回 | AC32: =IFERROR(W32*AA32*Y32,"") | AE32: 円
... G100: =IF(AND(A100="",E100="",F100=""),"",IF(A100="","行事名未記入",(IFERROR(INDEX('計算用-行事年間一括'!$C$9:$F$11,MATCH(行事年間一括_加入依頼書兼年間計画書!F100,'計算用-行事年間一括'!$B$9:$B$11,0),(MATCH(行事年間一括_加入依頼書兼年間計画書!E100,'計算用-行事年間一括'!$C$8:$F$8,0))),"")))) | H100: 円 | J100: 人 | L100: 回 | M100: =IFERROR(I100*G100*K100,"") | O100: 円 | W100: =IF(AND(Q100="",U100="",V100=""),"",IF(Q100="","行事名未記入",IFERROR(INDEX('計算用-行事年間一括'!$C$2:$F$7,MATCH(V100,'計算用-行事年間一括'!$B$2:$B$7,0),(MATCH(U100,'計算用-行事年間一括'!$C$1:$F$1,0))),""))) | X100: 円 | Z100: 人 | AB100: 回 | AC100: =IFERROR(W100*AA100*Y100,"") | AE100: 円
I101: 日帰り行事タイプ掛金合計 | M101: =SUM(M21:N100) -> 0 | O101: 円 | Y101: 宿泊行事タイプ掛金合計 | AC101: =SUM(AC21:AD100) -> 0 | AE101: 円

Sheet 行事コースランク表
B2: 魚釣り（船上での釣り、船を使用して釣り場に行って行うもの）、スカイダイビング、ハンググライダー操縦（搭乗）、スキューバダイビング、ラフティング、祭り（危険度の高いもの）、草刈（家庭用電動工具以上の工具やチェーンソーを使用するもの）、ボルダリング、行事のための準備・後片付けのみを作業の目的とするもの等は日帰り行事では対象外となります
B4: 行事内容 | C4: ランク
A5: いあん | B5: 慰安会（懇談・飲食程度のもの） | C5: Aランク
A6: いちご | B6: いちご狩り | C6: Aランク
A7: いも | B7: いも掘り | C7: Aランク
A8: おはなみ | B8: お花見 | C8: Aランク
A9: おりえ | B9: オリエンテーリング（徒歩によるもの） | C9: Aランク
A10: おんせん | B10: 温泉旅行（日帰り） | C10: Aランク
A11: かいぎ | B11: 会議・会合（業務でないもの） | C11: Aランク
A12: かいすいよく | B12: 海水浴 | C12: Aランク
A13: かせん | B13: 河川清掃 | C13: Aランク
A14: かわらあ | B14: 川原遊び（ゲーム、すいか割り、水遊び程度のもの） | C14: Aランク
A15: きっく | B15: キックベースボール | C15: Aランク
A16: くさむし | B16: 草むしり（機械を使用するもの以外） | C16: Aランク
... A62: わかさぎ | B62: わかさぎ釣り（湖の氷上） ほか | C62: Cランク

Sheet 計算用-組合員
A1: プルダウン用加入月 | C1: 加入月 | D1: 月数TBL | F1: 加入年月の月だけ抽出 | G1: 採用月数
A2: 46357 | C2: 12 | D2: 12 | F2: =MONTH(組合員一括_加入依頼書兼人数報告書!H6) -> #VALUE! | G2: =VLOOKUP(F2,C:D,2,0) -> #VALUE!
A3: 46388 | C3: 11 | D3: 1
A4: 46419 | C4: 10 | D4: 2
A5: 46447 | C5: 9 | D5: 3
A6: 46478 | C6: 8 | D6: 4
A7: 46508 | C7: 7 | D7: 5
A8: 46539 | C8: 6 | D8: 6
A9: 46569 | C9: 5 | D9: 7
A10: 46600 | C10: 4 | D10: 8
A11: 46631 | C11: 3 | D11: 9
A12: 46661 | C12: 2 | D12: 10
A13: 46692 | C13: 1 | D13: 11
A14: 46722

Sheet 計算用-賠償責任
A1: プルダウン用加入月 | C1: 加入月 | D1: 月数TBL | F1: 加入年月の月だけ抽出 | G1: 採用月数
A2: 46357 | C2: 12 | D2: 12 | F2: =MONTH(組合賠責_加入依頼書兼人数報告書!H6) -> #VALUE! | G2: =VLOOKUP(F2,C:D,2,0) -> #VALUE!
A3: 46388 | C3: 11 | D3: 1
A4: 46419 | C4: 10 | D4: 2
A5: 46447 | C5: 9 | D5: 3
A6: 46478 | C6: 8 | D6: 4
A7: 46508 | C7: 7 | D7: 5
A8: 46539 | C8: 6 | D8: 6
A9: 46569 | C9: 5 | D9: 7
A10: 46600 | C10: 4 | D10: 8
A11: 46631 | C11: 3 | D11: 9
A12: 46661 | C12: 2 | D12: 10
A13: 46692 | C13: 1 | D13: 11
A14: 46722

Sheet 計算用-役員コース
A1: プルダウン用加入月 | C1: 加入月 | D1: 月数TBL | F1: 加入年月の月だけ抽出 | G1: 採用月数
A2: 46357 | C2: 12 | D2: 12 | F2: =MONTH(役員_加入依頼書兼人数報告書兼役員名簿!H4) -> #VALUE! | G2: =VLOOKUP(F2,C:D,2,0) -> #VALUE!
A3: 46388 | C3: 11 | D3: 1
A4: 46419 | C4: 10 | D4: 2
A5: 46447 | C5: 9 | D5: 3
A6: 46478 | C6: 8 | D6: 4
A7: 46508 | C7: 7 | D7: 5
A8: 46539 | C8: 6 | D8: 6
A9: 46569 | C9: 5 | D9: 7
A10: 46600 | C10: 4 | D10: 8
A11: 46631 | C11: 3 | D11: 9
A12: 46661 | C12: 2 | D12: 10
A13: 46692 | C13: 1 | D13: 11
A14: 46722
